BEGIN:VCALENDAR
VERSION:2.0
PRODID:-//Lindsey Lodge Hospice - ECPv6.15.20//NONSGML v1.0//EN
CALSCALE:GREGORIAN
METHOD:PUBLISH
X-WR-CALNAME:Lindsey Lodge Hospice
X-ORIGINAL-URL:https://www.lindseylodgehospice.org.uk
X-WR-CALDESC:Events for Lindsey Lodge Hospice
REFRESH-INTERVAL;VALUE=DURATION:PT1H
X-Robots-Tag:noindex
X-PUBLISHED-TTL:PT1H
BEGIN:VTIMEZONE
TZID:Europe/London
BEGIN:DAYLIGHT
TZOFFSETFROM:+0000
TZOFFSETTO:+0100
TZNAME:BST
DTSTART:20240331T010000
END:DAYLIGHT
BEGIN:STANDARD
TZOFFSETFROM:+0100
TZOFFSETTO:+0000
TZNAME:GMT
DTSTART:20241027T010000
END:STANDARD
BEGIN:DAYLIGHT
TZOFFSETFROM:+0000
TZOFFSETTO:+0100
TZNAME:BST
DTSTART:20250330T010000
END:DAYLIGHT
BEGIN:STANDARD
TZOFFSETFROM:+0100
TZOFFSETTO:+0000
TZNAME:GMT
DTSTART:20251026T010000
END:STANDARD
BEGIN:DAYLIGHT
TZOFFSETFROM:+0000
TZOFFSETTO:+0100
TZNAME:BST
DTSTART:20260329T010000
END:DAYLIGHT
BEGIN:STANDARD
TZOFFSETFROM:+0100
TZOFFSETTO:+0000
TZNAME:GMT
DTSTART:20261025T010000
END:STANDARD
BEGIN:DAYLIGHT
TZOFFSETFROM:+0000
TZOFFSETTO:+0100
TZNAME:BST
DTSTART:20270328T010000
END:DAYLIGHT
BEGIN:STANDARD
TZOFFSETFROM:+0100
TZOFFSETTO:+0000
TZNAME:GMT
DTSTART:20271031T010000
END:STANDARD
BEGIN:DAYLIGHT
TZOFFSETFROM:+0000
TZOFFSETTO:+0100
TZNAME:BST
DTSTART:20280326T010000
END:DAYLIGHT
BEGIN:STANDARD
TZOFFSETFROM:+0100
TZOFFSETTO:+0000
TZNAME:GMT
DTSTART:20281029T010000
END:STANDARD
END:VTIMEZONE
BEGIN:VEVENT
DTSTART;TZID=Europe/London:20250218T080000
DTEND;TZID=Europe/London:20260630T170000
DTSTAMP:20260423T054329
CREATED:20251105T095913Z
LAST-MODIFIED:20251110T103117Z
UID:10000048-1739865600-1782838800@www.lindseylodgehospice.org.uk
SUMMARY:Wing Walk 2026
DESCRIPTION:Take Flight for Lindsey Lodge! The Wing Walk Challenge is Back!\n  \nDo you dare to care and take on the ultimate adrenaline challenge? Join Lindsey Lodge Hospice and experience the thrill of a lifetime by standing on the wing of a plane as it soars through the sky! This is your incredible chance to tick a huge item off your bucket list while raising crucial funds for patient care in your community. \n  \nChallenge Dates & Locations\nThe Wickenby aerodrome in Lincolnshire has limited availability on the following dates. \nFriday 26th – Sunday 28th June 2026\nFriday 21st – Sunday 23rd August 2026\nPlease note that specific flight times will be confirmed directly with the aerodrome once your wing walk is paid for. \n  \nHow to Sign Up & Fundraise\nTo join the challenge\, first Confirm Interest by singing up via our website. After this\, you will be sent a link to sign up on the Wing Walk website where you will need to pay a £75 deposit to secure your spot. We ask that you Commit to Care by raising a minimum of £1000 eight weeks before you take on the challenge. Once you reach your target via JustGiving\, the aerodrome informs us\, and your wing walk is officially paid for and confirmed—then you’re Ready to Fly! \n  \nWhat to Expect on the Day\nUpon arrival\, you will be welcomed and fully briefed by the team before being securely strapped into the special CAA-approved harness and rig. Before you know it\, you will have taken to the skies for an unforgettable wing walk experience with your pilot. You should wear a couple of layers of close-fitting\, comfortable clothing and flat-soled\, lace-up footwear. Earplugs and goggles are provided\, and jewellery will need to be removed for the display. \n  \nParticipant Guidelines\nTo ensure the safety of all participants\, please note that Wing Walkers must be between 18 and 80 years old (a doctor’s note or self-declaration is required for participants 80+). You must be between 5 and 6 feet tall (1.52m – 1.83m) and able to climb unassisted to the top of the aircraft. Maximum weight limits vary by location: 13 stone 4lbs (85kg) for the Kent\, Lincolnshire\, and Somerset aerodromes. You cannot take part if you have or are suffering from a number of specified medical conditions; if you have any pre-existing medical conditions\, you should consult your doctor. All wing walkers will be required to sign a disclaimer prior to taking part. \nSpectators are welcome! Please mention when making your booking if you intend to bring more than 10 guests. \nDon’t let this incredible opportunity fly by! Sign up today and support Lindsey Lodge Hospice! \nThe wing walk challenge is weather dependent.\n\nThis event is done in partnership with life changing challenges – https://www.life-changingchallenges.co.uk/challenges/adrenaline-challenges/lindsey-lodge-hospice-wingwalk-challenge.html 
URL:https://www.lindseylodgehospice.org.uk/event/wing-walk-2026/
CATEGORIES:Challenges,Public
ATTACH;FMTTYPE=image/jpeg:https://www.lindseylodgehospice.org.uk/wp-content/uploads/2025/03/wingwalk_header_2_6.jpeg
END:VEVENT
BEGIN:VEVENT
DTSTART;VALUE=DATE:20251113
DTEND;VALUE=DATE:20271001
DTSTAMP:20260423T054329
CREATED:20251105T094916Z
LAST-MODIFIED:20260114T133040Z
UID:10000047-1762992000-1822348799@www.lindseylodgehospice.org.uk
SUMMARY:FREE Lindsey Lodge Skydive 2026
DESCRIPTION:🪂 Take the Plunge for Lindsey Lodge! Tandem Skydive from 15\,000ft\n  \nAre you ready for the ultimate adrenaline rush? Skydive from a breathtaking 15\,000 feet in a tandem jump with a fully qualified parachuting instructor and raise vital funds for Lindsey Lodge! \nThis incredible experience comes with a FREE sign-up\, and all we ask is that you commit to raising a minimum sponsorship of £350. \n\n  \n🗓️ Choose Your Jump Date in 2026\nJoin us on one of our dedicated dates and jump alongside fellow Lindsey Lodge supporters! You will receive a FREE branded T-shirt on the day of your jump. \n\n\n\nDate\nTime Slots\n\n\n\n\nSunday\, April 26th\n7.45am & 10:00 am\n\n\nSunday\, June 7th\n7.45am & 10:00 am\n\n\nSunday\, August 9th\n7.45am & 10:00 am\n\n\nSaturday\, September 19th\n7.45am & 10:00 am\n\n\n\nCan’t make these dates? No problem! Select “Skydive Anytime” at checkout\, and we’ll contact you to arrange a suitable date. While this works the same\, please note we cannot guarantee a presence from our fundraising team on these alternative dates. \n\n  \n✅ Eligibility and Safety Information\nYour safety is paramount. Please review the following criteria and confirm you meet them upon sign-up: \n\nMaximum Weight: 95kg fully clothed. If you are between 95kg and 100kg\, you may still jump but will incur an additional £15 fee due to equipment wear and tear. No one over 100kg (fully clothed) will be accepted.\nMinimum Weight: 44kg.\nMinimum Height: 4ft 11in. Participants under these minimums will require a harness fitting assessment\, which can be done in advance or 15 minutes before your jump time.\n\n  \nMedical Requirements\nAll participants must sign a British Skydive self-declaration medical form (included in the confirmation from Skydive Hibaldstow). \n\nIf you have a medical condition and cannot agree to the self-declaration form\, you must complete the 115B medical form and have it signed and stamped by your doctor. This may involve an additional cost.\nPlease note that medical conditions related to mobility\, sight\, or hearing must be communicated to the drop zone in advance for assessment.\nOnly fill out the medical form if you have a medical condition.\n\nIf you have any concerns or questions about your eligibility\, please contact the drop zone directly for advice: \n\n📧 Email: info@skydiving.co.uk\n📞 Phone: 01652 648837
URL:https://www.lindseylodgehospice.org.uk/event/free-lindsey-lodge-skydive-2026/
LOCATION:Redbourne Road\, Redbourne Road\, Hibaldstow\, DN20 9NN\, United Kingdom
CATEGORIES:Challenges,Public
ATTACH;FMTTYPE=image/jpeg:https://www.lindseylodgehospice.org.uk/wp-content/uploads/2025/02/sophie-hays-scaled.jpg
END:VEVENT
BEGIN:VEVENT
DTSTART;TZID=Europe/London:20260108T080000
DTEND;TZID=Europe/London:20260510T200000
DTSTAMP:20260423T054329
CREATED:20260107T115656Z
LAST-MODIFIED:20260313T110320Z
UID:10000059-1767859200-1778443200@www.lindseylodgehospice.org.uk
SUMMARY:Leeds Half Marathon - Sunday 10 May 2026
DESCRIPTION:Run the Leeds Half Marathon for Lindsey Lodge\nDate: Sunday 10 May 2026 \nLocation: Headingley Stadium\, Leeds \nDistance: 13.1 Miles \nMinimum Sponsorship Target: £200 \nWe have THREE charity places available for 2026. \nAre you ready to lace up your trainers and take on one of Yorkshire’s most iconic road races? We are looking for a team of dedicated runners to represent Lindsey Lodge Hospice at the 2026 Leeds Half Marathon! \nThe Leeds Half is famous for its incredible atmosphere. From the moment you leave the start line to your hero’s welcome at Headingley Stadium\, the “vocal boost” from the local crowds will keep you moving. Whether you’re a seasoned pro or this is your very first half marathon\, every mile you run helps us provide specialist care to patients and families in North Lincolnshire. \nWhat’s Included in Your Charity Place?\nWhen you run for us\, we make sure you’re supported every step of the way: \n\n\nLindsey Lodge Running Vest: Wear our colors with pride on race day. \n\n\nFundraising Pack: Filled with tips\, tricks\, and resources to help you smash your target. \n\n\nDedicated Support: Our friendly fundraising team is just a phone call or email away for any advice you need. \n\n\nThe “Goody Bag” Extras: You’ll also receive the official 2026 finisher’s medal and goody bag from the race organisers. \n\n\nWe hope you can join us!
URL:https://www.lindseylodgehospice.org.uk/event/leeds-half-marathon-sunday-10-may-2026/
LOCATION:Exhibition Park\, Newcastle\, Exhibition Park\, Newcastle upon Tyne\, NE2 4PZ\, United Kingdom
CATEGORIES:Challenges,Public
ATTACH;FMTTYPE=image/webp:https://www.lindseylodgehospice.org.uk/wp-content/uploads/2026/01/LEEDS-MARATHON-1-scaled.webp
END:VEVENT
BEGIN:VEVENT
DTSTART;TZID=Europe/London:20260108T080000
DTEND;TZID=Europe/London:20260510T200000
DTSTAMP:20260423T054329
CREATED:20260108T143034Z
LAST-MODIFIED:20260313T105211Z
UID:10000060-1767859200-1778443200@www.lindseylodgehospice.org.uk
SUMMARY:Leeds Marathon - Sunday 10 May 2026
DESCRIPTION:Date: Sunday 10 May 2026 \nLocation: Headingley Stadium\, Leeds \nDistance: 26.2 Miles \nMinimum Sponsorship Target: £400 \nWe only have FOUR  charity places available for the full marathon in 2026. \nAre you ready to lace up your trainers and take on the ultimate challenge? We are looking for a team of dedicated runners to represent Lindsey Lodge Hospice at the 2026 Leeds Marathon! \nThe Leeds Marathon is famous for its incredible atmosphere and challenging route. From the moment you leave the start line to your hero’s welcome at Headingley Stadium\, the “vocal boost” from the local crowds will keep you moving through every one of those 26.2 miles. Whether you’re a marathon veteran or this is your very first time tackling the distance\, every step you take helps us provide specialist care to patients and families in North Lincolnshire. \nWhat’s Included in Your Charity Place?\nWhen you run for us\, we make sure you’re supported every step of the way: \n\n\nLindsey Lodge T-shirt: Wear our colors with pride on race day. \n\n\nFundraising Pack: Filled with tips\, tricks\, and resources to help you smash your target. \n\n\nDedicated Support: Our friendly fundraising team is just a phone call or email away for any advice you need. \n\n\nThe “Goody Bag” Extras: You’ll also receive the official 2026 finisher’s medal and goody bag from the race organisers. \n\n\nWe hope you can join us!
URL:https://www.lindseylodgehospice.org.uk/event/leeds-marathon-sunday-10-may-2026/
LOCATION:Exhibition Park\, Newcastle\, Exhibition Park\, Newcastle upon Tyne\, NE2 4PZ\, United Kingdom
CATEGORIES:Challenges,Public
ATTACH;FMTTYPE=image/webp:https://www.lindseylodgehospice.org.uk/wp-content/uploads/2026/01/LEEDS-MARATHON-1-scaled.webp
END:VEVENT
BEGIN:VEVENT
DTSTART;VALUE=DATE:20260627
DTEND;VALUE=DATE:20260628
DTSTAMP:20260423T054329
CREATED:20251105T105003Z
LAST-MODIFIED:20260313T105340Z
UID:10000051-1782518400-1782604799@www.lindseylodgehospice.org.uk
SUMMARY:The Peak District Challenge 2026
DESCRIPTION:THE PEAK DISTRICT CHALLENGE: WALK| CLIMB | ABSEIL \nDate: Saturday 27th June \nSign up: FREE sign up \nSponsorship ask: £250 \nAge restriction: 16 years old + \nThe Peak District Challenge is your chance to paddle\, hike\, and descend your way across the stunning national park\, all while raising essential funds for Lindsey Lodge Hospice. Get ready to test your limits and do something amazing\, with stunning surroundings and breathtaking views. \nYou will be required to complete a medical form prior to the event for your safety. \n  \nOnly 16 Spaces Available—Book Online NOW!\nWhat You’ll Get from Lindsey Lodge:\nWhen you secure a charity place with us\, you’re not just getting an experience you’re becoming a vital part of the Lindsey Lodge team! \nAs a valued member of #TeamLindseyLodge\, you’ll receive: \n\nA Guaranteed great experience to the most spectacular half marathon in the world.\nA Branded T- shirt to wear with pride on the day.\nDedicated Fundraising Support and resources from our friendly team to help you smash your target.\nMedal and certificate on completion\n\n  \nYour Safety is Sorted\nWe are thrilled to partner with Lost Earth Adventures\, who will provide experienced\, qualified leaders\, all the necessary equipment\, and guaranteed good times! They’ll guide you safely through the mountains while you relax (sort of) and take in the fantastic views. \n\nSee why they are awesome: Check out reviews for Lost Earth Adventures here: Trip Advisor Reviews
URL:https://www.lindseylodgehospice.org.uk/event/the-peak-district-challenge-2026/
CATEGORIES:Challenges,Public
ATTACH;FMTTYPE=image/jpeg:https://www.lindseylodgehospice.org.uk/wp-content/uploads/2025/11/DSC_0342-scaled.jpg
END:VEVENT
BEGIN:VEVENT
DTSTART;TZID=Europe/London:20260725T080000
DTEND;TZID=Europe/London:20260725T200000
DTSTAMP:20260423T054329
CREATED:20251105T104559Z
LAST-MODIFIED:20260317T165029Z
UID:10000050-1784966400-1785009600@www.lindseylodgehospice.org.uk
SUMMARY:Tough Mudder 2026
DESCRIPTION:TOUGH MUDDER YORKSHIRE 2026! 🏃‍♂️\nForget clean shoes and comfort zones! Do you want to swap your sofa for shocking cold water\, killer obstacles\, and mountains of mud? \nJoin #TeamLindseyLodge at Tough Mudder Yorkshire and prove your grit. You’ll tackle the world’s most hardcore obstacle course and help fund vital palliative and end-of-life care—it’s a win-win! \n  \n\nThe Mission: Conquer Tough Mudder (Full or Half Distance—choose your level of glorious misery!)\nThe Date: Saturday 25th July\, 2026\nThe Battlefield: The jaw-dropping\, yet deceptively brutal\, Broughton Hall Estate\, Skipton\, Yorkshire\, BD23 3AE.\n\n  \nWhy Yorkshire?\nThis isn’t just a run; it’s an epic mud-fest against the stunning backdrop of the Yorkshire Dales. Get ready for killer hills\, epic views\, and terrain so muddy\, you might lose a shoe (or two). \nYou’ll face the infamous obstacles designed to test your stamina\, strength\, and mental grit. Yes\, we’re talking about classics like the notoriously slippery\, spectator-favourite Mud Mile. Consider your laundry ruined! \n\nWant to see what pain awaits? Check out the obstacles here: Tough Mudder Obstacles\n\n\n  \nYour Commitment:\nWe’re giving you a FREE ride into the mud! All we ask is that you channel your energy into raising funds for Lindsey Lodge. \n\nEntry Fee: FREE (Your spot is covered!)\nFundraising Goal: £250 Minimum Sponsorship\n\nYour amazing efforts will directly support our essential hospice services. To get you started\, you’ll receive a welcome pack and a bespoke Lindsey Lodge T-shirt for your muddy debut! \n  \nWe only have 15 exclusive spots available for this epic Yorkshire challenge—these go quickly! Don’t let someone else steal your chance at muddy glory. Book your space today and start assembling your team! \n  \nNeed to Know\n\nAddress: Broughton Hall\, Skipton\, Yorkshire\, BD23 3AE\, UK\nTravel Time (approx.): Leeds (60 mins)\, Manchester (75 mins)\, Liverpool (90 mins)\n14-18 year olds: Can take part with an adult who is also taking part in the event\nAge Limit: You must be 18 or over to play in the mud.\nAlternative Dates: Can’t make the 25th July? Contact April to discuss other Tough Mudder dates: fundraising@lindseylodgehospice.org.uk
URL:https://www.lindseylodgehospice.org.uk/event/tough-mudder-2026/
LOCATION:Broughton Hall\, Broughton Hall\, Skipton\, Yorkshire\, BD23 3AE\, United Kingdom
CATEGORIES:Challenges,Public
ATTACH;FMTTYPE=image/jpeg:https://www.lindseylodgehospice.org.uk/wp-content/uploads/2025/11/tough-mudder-2026.jpg
END:VEVENT
BEGIN:VEVENT
DTSTART;TZID=Europe/London:20260913T080000
DTEND;TZID=Europe/London:20260913T200000
DTSTAMP:20260423T054329
CREATED:20251105T091643Z
LAST-MODIFIED:20260313T104711Z
UID:10000049-1789286400-1789329600@www.lindseylodgehospice.org.uk
SUMMARY:Great North Run - September 2026 waiting list
DESCRIPTION: The Great North Run 2026! \nWant to be a part of #TeamLindseyLodge\nOur 25 places are currently sold out\, you can join our waiting list if any spaces come available.\nYou will be asked to make £40 payment and raise a minimum sponsorship of £300 once your place has been confirmed.\n\nThe Great North Run (GNR) is back on Sunday\, September 13th\, 2026\, and we want you to be part of the magic with #TeamLindseyLodge!\nWidely known as the world’s biggest and best half marathon\, the GNR is famous for its inclusive atmosphere\, unbeatable on-route entertainment\, and legendary Geordie welcome. From the unforgettable rush of the Red Arrows flying overhead as you cross the Tyne Bridge\, to the deafening roar of the crowd and the famous ‘oggy-oggy-oggy’ chants\, the Great North Run magic is hard to understand—until you’ve experienced it for yourself on the iconic Newcastle to South Shields route.\n\nWhat You’ll Get Running for Lindsey Lodge:\nWhen you secure a charity place with us\, you’re not just getting a race number\, you’re becoming a vital part of the Lindsey Lodge team! Our runners typically commit to a registration fee and a minimum sponsorship pledge\, which directly funds the specialist palliative care we provide.\nAs a valued member of #TeamLindseyLodge\, you’ll receive:\n\n\nA Guaranteed Entry to the most spectacular half marathon in the world.\n\n\nHospice T-shirt to wear with pride on the day. (option to upgrade to another T-shirt and vest from TKR sportswear).\n\n\nDedicated Fundraising Support and resources from our friendly team to help you smash your target.\n\n\nTraining Tips and Advice to get you ready for the 13.1-mile challenge.\n\n\nITAB- Included you will recieve a keepsake engraved with your name and finishing time to clip onto your ribbon – is the perfect way to hold onto those memories. For more information about the ITAB included in your registration visit here: https://www.greatrun.org/itab/\n\n\n🌟 Your Miles\, Our Care\nEvery step you take and every pound you raise helps us provide comfort\, dignity\, and care for local people facing life-limiting illnesses. Join us for a monumental event and help ensure we can continue to be there for our patients and their families
URL:https://www.lindseylodgehospice.org.uk/event/great-north-run-september-2026/
LOCATION:Exhibition Park\, Newcastle\, Exhibition Park\, Newcastle upon Tyne\, NE2 4PZ\, United Kingdom
CATEGORIES:Challenges,Public
ATTACH;FMTTYPE=image/jpeg:https://www.lindseylodgehospice.org.uk/wp-content/uploads/2025/11/GNR-1.jpg
END:VEVENT
END:VCALENDAR