BEGIN:VCALENDAR
VERSION:2.0
PRODID:-//Lindsey Lodge Hospice - ECPv6.15.20//NONSGML v1.0//EN
CALSCALE:GREGORIAN
METHOD:PUBLISH
X-ORIGINAL-URL:https://www.lindseylodgehospice.org.uk
X-WR-CALDESC:Events for Lindsey Lodge Hospice
REFRESH-INTERVAL;VALUE=DURATION:PT1H
X-Robots-Tag:noindex
X-PUBLISHED-TTL:PT1H
BEGIN:VTIMEZONE
TZID:Europe/London
BEGIN:DAYLIGHT
TZOFFSETFROM:+0000
TZOFFSETTO:+0100
TZNAME:BST
DTSTART:20240331T010000
END:DAYLIGHT
BEGIN:STANDARD
TZOFFSETFROM:+0100
TZOFFSETTO:+0000
TZNAME:GMT
DTSTART:20241027T010000
END:STANDARD
BEGIN:DAYLIGHT
TZOFFSETFROM:+0000
TZOFFSETTO:+0100
TZNAME:BST
DTSTART:20250330T010000
END:DAYLIGHT
BEGIN:STANDARD
TZOFFSETFROM:+0100
TZOFFSETTO:+0000
TZNAME:GMT
DTSTART:20251026T010000
END:STANDARD
BEGIN:DAYLIGHT
TZOFFSETFROM:+0000
TZOFFSETTO:+0100
TZNAME:BST
DTSTART:20260329T010000
END:DAYLIGHT
BEGIN:STANDARD
TZOFFSETFROM:+0100
TZOFFSETTO:+0000
TZNAME:GMT
DTSTART:20261025T010000
END:STANDARD
END:VTIMEZONE
BEGIN:VEVENT
DTSTART;TZID=Europe/London:20250614T113000
DTEND;TZID=Europe/London:20250614T200000
DTSTAMP:20260423T182820
CREATED:20250529T083046Z
LAST-MODIFIED:20250529T083113Z
UID:10000035-1749900600-1749931200@www.lindseylodgehospice.org.uk
SUMMARY:NLaG doctors Vs North Lincolnshire GPs Charity cricket match
DESCRIPTION:Join the NLaG doctors Vs North Lincolnshire GPs for their yearly charity cricket match at Messingham MJFC Ground on Saturday 14th June. \nTheir will be fun\, fours and music alongside an amazing atmosphere. Please note\, there is no seating\, so spectators will need to bring their own chairs or picnic mats as well as sun cover. \nAll proceeds will come directly to Lindsey Lodge. \nTime: 11:30am onwards \nOrganiser for the event: \n\nDr Ali Ilyas\nDr M Imtiaz\nDr Khawar\nDr Anwer Qureshi\nDr VijayKumar Singh\n\n  \nDirections for the cricket ground \n📍 Messingham MJFC ground\, Messingham\, DN17 3SA \n \n Unmarked road from A159 \n Road sign A159 \n 
URL:https://www.lindseylodgehospice.org.uk/event/nlag-doctors-vs-north-lincolnshire-gps-charity-cricket-match/
LOCATION:Messingham cricket ground\, North Field Road\, Messingham\, DN17 3SA\, United Kingdom
CATEGORIES:Public
ATTACH;FMTTYPE=image/jpeg:https://www.lindseylodgehospice.org.uk/wp-content/uploads/2025/05/cricket.jpg
END:VEVENT
END:VCALENDAR